BEGIN:VCALENDAR
VERSION:2.0
PRODID:-//Alex Kouvatas - ECPv6.15.20//NONSGML v1.0//EN
CALSCALE:GREGORIAN
METHOD:PUBLISH
X-WR-CALNAME:Alex Kouvatas
X-ORIGINAL-URL:https://alexmagician.com
X-WR-CALDESC:Events for Alex Kouvatas
REFRESH-INTERVAL;VALUE=DURATION:PT1H
X-Robots-Tag:noindex
X-PUBLISHED-TTL:PT1H
BEGIN:VTIMEZONE
TZID:Europe/London
BEGIN:DAYLIGHT
TZOFFSETFROM:+0000
TZOFFSETTO:+0100
TZNAME:BST
DTSTART:20230326T010000
END:DAYLIGHT
BEGIN:STANDARD
TZOFFSETFROM:+0100
TZOFFSETTO:+0000
TZNAME:GMT
DTSTART:20231029T010000
END:STANDARD
BEGIN:DAYLIGHT
TZOFFSETFROM:+0000
TZOFFSETTO:+0100
TZNAME:BST
DTSTART:20240331T010000
END:DAYLIGHT
BEGIN:STANDARD
TZOFFSETFROM:+0100
TZOFFSETTO:+0000
TZNAME:GMT
DTSTART:20241027T010000
END:STANDARD
BEGIN:DAYLIGHT
TZOFFSETFROM:+0000
TZOFFSETTO:+0100
TZNAME:BST
DTSTART:20250330T010000
END:DAYLIGHT
BEGIN:STANDARD
TZOFFSETFROM:+0100
TZOFFSETTO:+0000
TZNAME:GMT
DTSTART:20251026T010000
END:STANDARD
END:VTIMEZONE
BEGIN:VEVENT
DTSTART;TZID=Europe/London:20241026T173000
DTEND;TZID=Europe/London:20241026T200000
DTSTAMP:20260421T153447
CREATED:20240923T150111Z
LAST-MODIFIED:20240923T151725Z
UID:3852-1729963800-1729972800@alexmagician.com
SUMMARY:Bridgend Farmhouse annual Terroriffic Halloween Party
DESCRIPTION:Come to Bridgend Farmhouse if you dare! \nSuitable for all ages \nThere will be story telling\, magic\, music\, games\, pumpkins\, spooky food \,ghosts \,ghouls and more! \nPrize for the best fancy dress costume! \nAll parking in the Farmhouse Car Park is normally reserved for disabled only. There is public parking available in the Inch or at Cameron Toll. \n\n\n\nAdult\n\n\n\n\n£5.00\n\n\n\n\n\n\n\n\n\nChild/under 18\n£1.00\n\n\n\n\n\n\n\n\nNeighbours card\n£4.00 \n\n\n\nParents are responsible for their children’s safety onsite and all children under 16 must come accompanied with an adult – thank you!
URL:https://alexmagician.com/event/bridgend-farmhouse-annual-terroriffic-halloween-party/
LOCATION:Bridgend\, Bridgend Farmhouse\, 41 Old Dalkeith Rd.\, Edinburgh\, EH16 4TE 41 Old Dalkeith Rd. Edinburgh EH16 4TE\, Edinburgh\, EH16 4TE\, United Kingdom
END:VEVENT
BEGIN:VEVENT
DTSTART;TZID=Europe/London:20241024T190000
DTEND;TZID=Europe/London:20241024T213000
DTSTAMP:20260421T153447
CREATED:20241001T211629Z
LAST-MODIFIED:20241002T160013Z
UID:3957-1729796400-1729805400@alexmagician.com
SUMMARY:Open Cabaret !
DESCRIPTION:My FREE monthly cabaret show returns to Brewdog Lothian Road\,\nThursday 24th October bringing you a fabulous cast of burlesque and cabaret magic \n\n\nDid I mention it’s free?!\n\n\n24th October\n7.00pm -9:30pm\nBrewdog Lothian Road Edinburgh
URL:https://alexmagician.com/event/open-cabaret/
LOCATION:Brewdog Lothian Road\, 50 Lothian Rd\, Edinburgh EH3 9BY\, Edinburgh\, EH3 9BY\, United Kingdom
END:VEVENT
BEGIN:VEVENT
DTSTART;VALUE=DATE:20241018
DTEND;VALUE=DATE:20241019
DTSTAMP:20260421T153447
CREATED:20241001T210003Z
LAST-MODIFIED:20241001T210003Z
UID:3955-1729209600-1729295999@alexmagician.com
SUMMARY:Private party on 18th October.
DESCRIPTION:
URL:https://alexmagician.com/event/private-party-on-18th-october/
LOCATION:Glasgow
END:VEVENT
BEGIN:VEVENT
DTSTART;TZID=Europe/London:20240906T193000
DTEND;TZID=Europe/London:20240906T220000
DTSTAMP:20260421T153447
CREATED:20240709T223640Z
LAST-MODIFIED:20240709T224033Z
UID:3721-1725651000-1725660000@alexmagician.com
SUMMARY:Mischief and Mayhem Comedy
DESCRIPTION:🎉 Get ready for a night of laughter and magic! 🎉 \nJoin us for the Mischief and Mayhem Comedy Show at The Joker Bar in Bellshill! \n🗓️ Date: Friday\, September 6\, 2024\n🕖 Time: 7:30 PM \nFeaturing:\n🤣 Hilarious Comedians\n🎶 Musical Comedians\n🎩 Our incredible Headliner\, Alexis the Magician\, blending comedy with jaw-dropping magic! \nThis is a magical comedy evening you won’t want to miss. Tickets are selling fast\, so grab yours now and get ready for an unforgettable night! \n#ComedyShow #LiveEntertainment #JokerBar #Bellshill #ComedyMagic #MischiefAndMayhem \nSecure your tickets today! 🎟️✨\nwww.ticketsource.co.uk/mischief-and-mayhem
URL:https://alexmagician.com/event/mischief-and-mayhem-comedy/
LOCATION:The Joker Bar\, 151 Calder Road\, Bellshill\, ML42PL\, United Kingdom
END:VEVENT
BEGIN:VEVENT
DTSTART;TZID=Europe/London:20240808T200000
DTEND;TZID=Europe/London:20240808T200000
DTSTAMP:20260421T153447
CREATED:20240710T142007Z
LAST-MODIFIED:20240710T142007Z
UID:3727-1723147200-1723147200@alexmagician.com
SUMMARY:Dazzling Cabaret Show
DESCRIPTION:Dazzling Cabaret Show \nA vivacious variety extravaganza featuring the sensational Sassy Von Sparkle.\nExpect a brand new mix of dancers\, musicians\, magicians\, comedians and more every night !
URL:https://alexmagician.com/event/dazzling-cabaret-show/
LOCATION:Glasgow
END:VEVENT
BEGIN:VEVENT
DTSTART;TZID=Europe/London:20240803T154500
DTEND;TZID=Europe/London:20240823T164500
DTSTAMP:20260421T153447
CREATED:20240623T104936Z
LAST-MODIFIED:20240623T115842Z
UID:3706-1722699900-1724431500@alexmagician.com
SUMMARY:The Magic of Love Edinburgh Fringe Festival 2024
DESCRIPTION:August 3\, 2024 – Saturday at 15:45\nAugust 4\, 2024 – Sunday at 15:45\nAugust 5\, 2024 – Monday at 15:45\nAugust 6\, 2024 – Tuesday at 15:45\nAugust 7\, 2024 – Wednesday at 15:45\nAugust 8\, 2024 – Thursday at 15:45\nAugust 9\, 2024 – Friday at 15:45\nAugust 10\, 2024 – Saturday at 15:45\nAugust 11\, 2024 – Sunday at 15:45\nAugust 12\, 2024 – Monday at 15:45\nAugust 13\, 2024 – Tuesday at 15:45\nAugust 14\, 2024 – Wednesday at 15:45\nAugust 15\, 2024 – Thursday at 15:45\nAugust 16\, 2024 – Friday at 15:45\nAugust 17\, 2024 – Saturday at 15:45\nAugust 18\, 2024 – Sunday at 15:45\nAugust 19\, 2024 – Monday at 15:45\nAugust 20\, 2024 – Tuesday at 15:45\nAugust 21\, 2024 – Wednesday at 15:45\nAugust 22\, 2024 – Thursday at 15:45\nAugust 23\, 2024 – Friday at 15:45\nAugust 24\, 2024 – Saturday at 15:45\nAugust 25\, 2024 – Sunday at 15:45
URL:https://alexmagician.com/event/the-magic-of-love-edinburgh-fringe-festival-2024/
LOCATION:Glasgow
END:VEVENT
BEGIN:VEVENT
DTSTART;TZID=Europe/London:20240803T123000
DTEND;TZID=Europe/London:20240813T133000
DTSTAMP:20260421T153447
CREATED:20240623T101527Z
LAST-MODIFIED:20240623T101808Z
UID:3702-1722688200-1723555800@alexmagician.com
SUMMARY:Abracadabra Family Friendly Magic Show Edinburgh Fringe Festival 2024
DESCRIPTION:August 3\, 2024 – Saturday at 12:30 PM\nAugust 4\, 2024 – Sunday at 12:30 PM\nAugust 5\, 2024 – Monday at 12:30 PM\nAugust 6\, 2024 – Tuesday at 12:30 PM\nAugust 7\, 2024 – Wednesday at 12:30 PM\nAugust 8\, 2024 – Thursday at 12:30 PM\nAugust 9\, 2024 – Friday at 12:30 PM\nAugust 10\, 2024 – Saturday at 12:30 PM\nAugust 11\, 2024 – Sunday at 12:30 PM\nAugust 12\, 2024 – Monday at 12:30 PM\nAugust 13\, 2024 – Tuesday at 12:30 PM
URL:https://alexmagician.com/event/abracadabra-family-friendly-magic-show/
LOCATION:Glasgow
END:VEVENT
BEGIN:VEVENT
DTSTART;TZID=Europe/London:20240331T213000
DTEND;TZID=Europe/London:20240401T230000
DTSTAMP:20260421T153447
CREATED:20240320T145128Z
LAST-MODIFIED:20240320T145829Z
UID:2599-1711920600-1712012400@alexmagician.com
SUMMARY:G.I.C.F. Guest Appearance at the BACKBONE COMEDY
DESCRIPTION:Join Backbone Comedy for an unforgettable night of laughter and entertainment! Created by Glasgow Comic Jimi Longmuir\, Backbone Comedy has been delivering side-splitting performances since 2019. From humble beginnings in the basement of the renowned Blackfriars venue in Merchant City\, Backbone Comedy has evolved into a powerhouse collective\, hosting uproarious shows at iconic venues like the Tennent’s Bar on Byres Rd. Featuring a line-up of talented comedians\, including the hilarious magician Alex Kouvatas\, also known as Alexismagician\, prepare to be dazzled by his comedic magic! From rib-tickling routines to mind-bending tricks\, Alex Kouvatas brings a unique blend of humour and illusion to the stage. Don’t miss out on this unforgettable evening of laughter and magic! Join Backbone Comedy and special guest Alex Kouvatas for an experience you won’t soon forget. Book your tickets now and get ready to laugh until your sides ache!
URL:https://alexmagician.com/event/g-i-c-f-guest-appearance-at-the-backbone-comedy/
LOCATION:Glasgow
END:VEVENT
BEGIN:VEVENT
DTSTART;TZID=Europe/London:20240330T190000
DTEND;TZID=Europe/London:20240330T220000
DTSTAMP:20260421T153447
CREATED:20240316T182544Z
LAST-MODIFIED:20240316T182544Z
UID:2553-1711825200-1711836000@alexmagician.com
SUMMARY:Burlesque-ival: Riot Reveals
DESCRIPTION:Sat\, 30 March 2024 \n7:00 PM \n\n\nThe Ballroom
URL:https://alexmagician.com/event/burlesque-ival-riot-reveals/
LOCATION:Glasgow
END:VEVENT
BEGIN:VEVENT
DTSTART;TZID=Europe/London:20240328T203000
DTEND;TZID=Europe/London:20240328T230000
DTSTAMP:20260421T153447
CREATED:20240320T144757Z
LAST-MODIFIED:20240320T144827Z
UID:2596-1711657800-1711666800@alexmagician.com
SUMMARY:G.I.C.F. GUEST APPEARANCE AT BACKBONE COMEDY (THE GRIFFIN)
DESCRIPTION:Join Backbone Comedy for an unforgettable night of laughter and entertainment! Created by Glasgow Comic Jimi Longmuir\, Backbone Comedy has been delivering side-splitting performances since 2019. From humble beginnings in the basement of the renowned Blackfriars venue in Merchant City\, Backbone Comedy has evolved into a powerhouse collective\, hosting uproarious shows at iconic venues like the Tennent’s Bar on Byres Rd. Featuring a line-up of talented comedians\, including the hilarious magician Alex Kouvatas\, also known as Alexismagician\, prepare to be dazzled by his comedic magic! From rib-tickling routines to mind-bending tricks\, Alex Kouvatas brings a unique blend of humour and illusion to the stage. Don’t miss out on this unforgettable evening of laughter and magic! Join Backbone Comedy and special guest Alex Kouvatas for an experience you won’t soon forget. Book your tickets now and get ready to laugh until your sides ache!
URL:https://alexmagician.com/event/backbonecomedy/
LOCATION:Glasgow
END:VEVENT
BEGIN:VEVENT
DTSTART;TZID=Europe/London:20240320T203000
DTEND;TZID=Europe/London:20240320T220000
DTSTAMP:20260421T153447
CREATED:20240316T181253Z
LAST-MODIFIED:20240316T181253Z
UID:2542-1710966600-1710972000@alexmagician.com
SUMMARY:Triger Warning Show
DESCRIPTION:Trigger Warnings
URL:https://alexmagician.com/event/triger-warning-show/
LOCATION:MCCHUILLS\, 80 High St\, Glasgow G1 1NL\, Glasgow\, United Kingdom
END:VEVENT
END:VCALENDAR